BEGIN:VCALENDAR
PRODID:-//nuDatenautomaten//framework iCal4j //DE
VERSION:2.0
CALSCALE:GREGORIAN
BEGIN:VTIMEZONE
TZID:Europe/Berlin
LAST-MODIFIED:20260306T231828Z
TZURL:https://www.tzurl.org/zoneinfo/Europe/Berlin
X-LIC-LOCATION:Europe/Berlin
X-PROLEPTIC-TZNAME:LMT
BEGIN:STANDARD
TZNAME:CET
TZOFFSETFROM:+005328
TZOFFSETTO:+0100
DTSTART:18930401T000000
END:STANDARD
BEGIN:DAYLIGHT
TZNAME:CEST
TZOFFSETFROM:+0100
TZOFFSETTO:+0200
DTSTART:19160430T230000
RDATE:19400401T020000
RDATE:19430329T020000
RDATE:19460414T020000
RDATE:19470406T030000
RDATE:19480418T020000
RDATE:19490410T020000
RDATE:19800406T020000
END:DAYLIGHT
BEGIN:STANDARD
TZNAME:CET
TZOFFSETFROM:+0200
TZOFFSETTO:+0100
DTSTART:19161001T010000
RDATE:19421102T030000
RDATE:19431004T030000
RDATE:19441002T030000
RDATE:19451118T030000
RDATE:19461007T030000
END:STANDARD
BEGIN:DAYLIGHT
TZNAME:CEST
TZOFFSETFROM:+0100
TZOFFSETTO:+0200
DTSTART:19170416T020000
RRULE:FREQ=YEARLY;UNTIL=19180415T010000Z;BYMONTH=4;BYDAY=3MO
END:DAYLIGHT
BEGIN:STANDARD
TZNAME:CET
TZOFFSETFROM:+0200
TZOFFSETTO:+0100
DTSTART:19170917T030000
RRULE:FREQ=YEARLY;UNTIL=19180916T010000Z;BYMONTH=9;BYDAY=3MO
END:STANDARD
BEGIN:DAYLIGHT
TZNAME:CEST
TZOFFSETFROM:+0100
TZOFFSETTO:+0200
DTSTART:19440403T020000
RRULE:FREQ=YEARLY;UNTIL=19450402T010000Z;BYMONTH=4;BYDAY=1MO
END:DAYLIGHT
BEGIN:DAYLIGHT
TZNAME:CEMT
TZOFFSETFROM:+0200
TZOFFSETTO:+0300
DTSTART:19450524T020000
RDATE:19470511T030000
END:DAYLIGHT
BEGIN:DAYLIGHT
TZNAME:CEST
TZOFFSETFROM:+0300
TZOFFSETTO:+0200
DTSTART:19450924T030000
RDATE:19470629T030000
END:DAYLIGHT
BEGIN:STANDARD
TZNAME:CET
TZOFFSETFROM:+0100
TZOFFSETTO:+0100
DTSTART:19460101T000000
RDATE:19800101T000000
END:STANDARD
BEGIN:STANDARD
TZNAME:CET
TZOFFSETFROM:+0200
TZOFFSETTO:+0100
DTSTART:19471005T030000
RRULE:FREQ=YEARLY;UNTIL=19491002T010000Z;BYMONTH=10;BYDAY=1SU
END:STANDARD
BEGIN:STANDARD
TZNAME:CET
TZOFFSETFROM:+0200
TZOFFSETTO:+0100
DTSTART:19800928T030000
RRULE:FREQ=YEARLY;UNTIL=19950924T010000Z;BYMONTH=9;BYDAY=-1SU
END:STANDARD
BEGIN:DAYLIGHT
TZNAME:CEST
TZOFFSETFROM:+0100
TZOFFSETTO:+0200
DTSTART:19810329T020000
RRULE:FREQ=YEARLY;BYMONTH=3;BYDAY=-1SU
END:DAYLIGHT
BEGIN:STANDARD
TZNAME:CET
TZOFFSETFROM:+0200
TZOFFSETTO:+0100
DTSTART:19961027T030000
RRULE:FREQ=YEARLY;BYMONTH=10;BYDAY=-1SU
END:STANDARD
END:VTIMEZONE
BEGIN:VEVENT
DTSTAMP:20260425T152201Z
DTSTART;TZID=Europe/Berlin:20240907T160000
DTEND;TZID=Europe/Berlin:20240907T173000
SUMMARY:OL Frauen SF Neustadt vs TuS 05 Daun (2)
UID:2d495bc4-d571-40d1-b447-c0d67432cfd4
STATUS:CONFIRMED
LAST-MODIFIED:20240908T065902Z
DESCRIPTION:Oberliga Rheinland Frauen\nBegegnungs-Nr: 2\nHeim: SF Neustadt\nGast: TuS 05 Daun\nHalle: Neustadt\, Bürgerhaushalle (174)\nAdresse: Raiffeisenstraße 9\, 53577 Neustadt (Wied)\n
LOCATION:Neustadt\, Bürgerhaushalle (174): Raiffeisenstraße 9\, 53577 Neustadt (Wied)
CATEGORIES:Saison 2024/25
END:VEVENT
BEGIN:VEVENT
DTSTAMP:20260425T152201Z
DTSTART;TZID=Europe/Berlin:20240922T170000
DTEND;TZID=Europe/Berlin:20240922T183000
SUMMARY:OL Frauen SF Neustadt vs TV Engers (15)
UID:982cf4d4-3066-462a-8a71-9f802ab5f57d
STATUS:CONFIRMED
LAST-MODIFIED:20240923T060752Z
DESCRIPTION:Oberliga Rheinland Frauen\nBegegnungs-Nr: 15\nHeim: SF Neustadt\nGast: TV Engers\nHalle: Neustadt\, Bürgerhaushalle (174)\nAdresse: Raiffeisenstraße 9\, 53577 Neustadt (Wied)\n
LOCATION:Neustadt\, Bürgerhaushalle (174): Raiffeisenstraße 9\, 53577 Neustadt (Wied)
CATEGORIES:Saison 2024/25
END:VEVENT
BEGIN:VEVENT
DTSTAMP:20260425T152201Z
DTSTART;TZID=Europe/Berlin:20241006T170000
DTEND;TZID=Europe/Berlin:20241006T183000
SUMMARY:OL Frauen SF Neustadt vs TV Welling (28)
UID:3bf822be-21a4-464d-ac59-f0a6f87ae91b
STATUS:CONFIRMED
LAST-MODIFIED:20241007T060542Z
DESCRIPTION:Oberliga Rheinland Frauen\nBegegnungs-Nr: 28\nHeim: SF Neustadt\nGast: TV Welling\nHalle: Neustadt\, Bürgerhaushalle (174)\nAdresse: Raiffeisenstraße 9\, 53577 Neustadt (Wied)\n
LOCATION:Neustadt\, Bürgerhaushalle (174): Raiffeisenstraße 9\, 53577 Neustadt (Wied)
CATEGORIES:Saison 2024/25
END:VEVENT
BEGIN:VEVENT
DTSTAMP:20260425T152201Z
DTSTART;TZID=Europe/Berlin:20241102T170000
DTEND;TZID=Europe/Berlin:20241102T183000
SUMMARY:OL Frauen SF Neustadt vs DJK/MJC Trier (41)
UID:7897b7f1-f2ea-475c-9742-c0aece480a30
STATUS:CONFIRMED
LAST-MODIFIED:20241103T165240Z
DESCRIPTION:Oberliga Rheinland Frauen\nBegegnungs-Nr: 41\nHeim: SF Neustadt\nGast: DJK/MJC Trier\nHalle: Neustadt\, Bürgerhaushalle (174)\nAdresse: Raiffeisenstraße 9\, 53577 Neustadt (Wied)\n
LOCATION:Neustadt\, Bürgerhaushalle (174): Raiffeisenstraße 9\, 53577 Neustadt (Wied)
CATEGORIES:Saison 2024/25
END:VEVENT
BEGIN:VEVENT
DTSTAMP:20260425T152201Z
DTSTART;TZID=Europe/Berlin:20241116T170000
DTEND;TZID=Europe/Berlin:20241116T183000
SUMMARY:OL Frauen SF Neustadt vs HSG Kastellaun-Simmern (54)
UID:39f83f08-7e15-48cc-bcb5-2d3f727df811
STATUS:CONFIRMED
LAST-MODIFIED:20241117T100009Z
DESCRIPTION:Oberliga Rheinland Frauen\nBegegnungs-Nr: 54\nHeim: SF Neustadt\nGast: HSG Kastellaun-Simmern\nHalle: Neustadt\, Bürgerhaushalle (174)\nAdresse: Raiffeisenstraße 9\, 53577 Neustadt (Wied)\n
LOCATION:Neustadt\, Bürgerhaushalle (174): Raiffeisenstraße 9\, 53577 Neustadt (Wied)
CATEGORIES:Saison 2024/25
END:VEVENT
BEGIN:VEVENT
DTSTAMP:20260425T152201Z
DTSTART;TZID=Europe/Berlin:20241130T190000
DTEND;TZID=Europe/Berlin:20241130T203000
SUMMARY:OL Frauen SF Neustadt vs TV Bad Ems (55)
UID:f65718c6-aa6a-4e12-bae9-2eb1b1331d9e
STATUS:CONFIRMED
LAST-MODIFIED:20241201T084130Z
DESCRIPTION:Oberliga Rheinland Frauen\nBegegnungs-Nr: 55\nHeim: SF Neustadt\nGast: TV Bad Ems\nHalle: Neustadt\, Bürgerhaushalle (174)\nAdresse: Raiffeisenstraße 9\, 53577 Neustadt (Wied)\n
LOCATION:Neustadt\, Bürgerhaushalle (174): Raiffeisenstraße 9\, 53577 Neustadt (Wied)
CATEGORIES:Saison 2024/25
END:VEVENT
BEGIN:VEVENT
DTSTAMP:20260425T152201Z
DTSTART;TZID=Europe/Berlin:20250118T190000
DTEND;TZID=Europe/Berlin:20250118T203000
SUMMARY:OL Frauen SF Neustadt vs HC Koblenz (76)
UID:f53fa6a1-0571-4aea-a210-c6393a741100
STATUS:CONFIRMED
LAST-MODIFIED:20250119T070751Z
DESCRIPTION:Oberliga Rheinland Frauen\nBegegnungs-Nr: 76\nHeim: SF Neustadt\nGast: HC Koblenz\nHalle: Neustadt\, Bürgerhaushalle (174)\nAdresse: Raiffeisenstraße 9\, 53577 Neustadt (Wied)\n
LOCATION:Neustadt\, Bürgerhaushalle (174): Raiffeisenstraße 9\, 53577 Neustadt (Wied)
CATEGORIES:Saison 2024/25
END:VEVENT
BEGIN:VEVENT
DTSTAMP:20260425T152201Z
DTSTART;TZID=Europe/Berlin:20250201T190000
DTEND;TZID=Europe/Berlin:20250201T203000
SUMMARY:OL Frauen SF Neustadt vs HSG Mertesdorf-Ruwertal (87)
UID:31e513d8-0592-4cba-a21a-89de3326fda2
STATUS:CONFIRMED
LAST-MODIFIED:20250202T125404Z
DESCRIPTION:Oberliga Rheinland Frauen\nBegegnungs-Nr: 87\nHeim: SF Neustadt\nGast: HSG Mertesdorf-Ruwertal\nHalle: Neustadt\, Bürgerhaushalle (174)\nAdresse: Raiffeisenstraße 9\, 53577 Neustadt (Wied)\n
LOCATION:Neustadt\, Bürgerhaushalle (174): Raiffeisenstraße 9\, 53577 Neustadt (Wied)
CATEGORIES:Saison 2024/25
END:VEVENT
BEGIN:VEVENT
DTSTAMP:20260425T152201Z
DTSTART;TZID=Europe/Berlin:20250215T190000
DTEND;TZID=Europe/Berlin:20250215T203000
SUMMARY:OL Frauen SF Neustadt vs HSG Wittlich II (98)
UID:16b05329-81f0-4f47-b67f-64c49cde9f01
STATUS:CONFIRMED
LAST-MODIFIED:20250216T082431Z
DESCRIPTION:Oberliga Rheinland Frauen\nBegegnungs-Nr: 98\nHeim: SF Neustadt\nGast: HSG Wittlich II\nHalle: Neustadt\, Bürgerhaushalle (174)\nAdresse: Raiffeisenstraße 9\, 53577 Neustadt (Wied)\n
LOCATION:Neustadt\, Bürgerhaushalle (174): Raiffeisenstraße 9\, 53577 Neustadt (Wied)
CATEGORIES:Saison 2024/25
END:VEVENT
BEGIN:VEVENT
DTSTAMP:20260425T152201Z
DTSTART;TZID=Europe/Berlin:20250308T170000
DTEND;TZID=Europe/Berlin:20250308T183000
SUMMARY:OL Frauen SF Neustadt vs HSG Hunsrück II (109)
UID:45d355e8-58b0-4ee9-8f38-6e46f22f0c48
STATUS:CONFIRMED
LAST-MODIFIED:20250309T075153Z
DESCRIPTION:Oberliga Rheinland Frauen\nBegegnungs-Nr: 109\nHeim: SF Neustadt\nGast: HSG Hunsrück II\nHalle: Neustadt\, Bürgerhaushalle (174)\nAdresse: Raiffeisenstraße 9\, 53577 Neustadt (Wied)\n
LOCATION:Neustadt\, Bürgerhaushalle (174): Raiffeisenstraße 9\, 53577 Neustadt (Wied)
CATEGORIES:Saison 2024/25
END:VEVENT
BEGIN:VEVENT
DTSTAMP:20260425T152201Z
DTSTART;TZID=Europe/Berlin:20250405T150000
DTEND;TZID=Europe/Berlin:20250405T163000
SUMMARY:OL Frauen SF Neustadt vs HSC Schweich (131)
UID:f8213b7c-da08-425e-87f4-7f5879428a4d
STATUS:CONFIRMED
LAST-MODIFIED:20250406T070754Z
DESCRIPTION:Oberliga Rheinland Frauen\nBegegnungs-Nr: 131\nHeim: SF Neustadt\nGast: HSC Schweich\nHalle: Windhagen\, Dreifeldh. (274)\nAdresse: Rheinhard-Wirtgen Str. 10\, 53578 Windhagen\n
LOCATION:Windhagen\, Dreifeldh. (274): Rheinhard-Wirtgen Str. 10\, 53578 Windhagen
CATEGORIES:Saison 2024/25
END:VEVENT
BEGIN:VEVENT
DTSTAMP:20260425T152201Z
DTSTART;TZID=Europe/Berlin:20241123T170000
DTEND;TZID=Europe/Berlin:20241123T183000
SUMMARY:OL Frauen HC Koblenz vs SF Neustadt (10)
UID:8e60da0e-1ea0-4d5b-ac13-25b0487d8e7a
STATUS:CONFIRMED
LAST-MODIFIED:20241124T070836Z
DESCRIPTION:Oberliga Rheinland Frauen\nBegegnungs-Nr: 10\nHeim: HC Koblenz\nGast: SF Neustadt\nHalle: Koblenz\, Julius-Wegeler-Schule (120)\nAdresse: Beatusstraße 143-147\, 56073 Koblenz\n
LOCATION:Koblenz\, Julius-Wegeler-Schule (120): Beatusstraße 143-147\, 56073 Koblenz
CATEGORIES:Saison 2024/25
END:VEVENT
BEGIN:VEVENT
DTSTAMP:20260425T152201Z
DTSTART;TZID=Europe/Berlin:20240928T200000
DTEND;TZID=Europe/Berlin:20240928T213000
SUMMARY:OL Frauen HSG Mertesdorf-Ruwertal vs SF Neustadt (21)
UID:8c4ecf4e-0642-4906-a2ad-96b6b6a4aa67
STATUS:CONFIRMED
LAST-MODIFIED:20240929T064625Z
DESCRIPTION:Oberliga Rheinland Frauen\nBegegnungs-Nr: 21\nHeim: HSG Mertesdorf-Ruwertal\nGast: SF Neustadt\nHalle: Mertesdorf\, Ruwertalhalle (150)\nAdresse: Zum Johannisberg 9\, 54318 Mertesdorf\n
LOCATION:Mertesdorf\, Ruwertalhalle (150): Zum Johannisberg 9\, 54318 Mertesdorf
CATEGORIES:Saison 2024/25
END:VEVENT
BEGIN:VEVENT
DTSTAMP:20260425T152201Z
DTSTART;TZID=Europe/Berlin:20241013T170000
DTEND;TZID=Europe/Berlin:20241013T183000
SUMMARY:OL Frauen HSG Wittlich II vs SF Neustadt (32)
UID:a79e4f2e-20f0-42d3-bb34-afe394308a49
STATUS:CONFIRMED
LAST-MODIFIED:20241014T053705Z
DESCRIPTION:Oberliga Rheinland Frauen\nBegegnungs-Nr: 32\nHeim: HSG Wittlich II\nGast: SF Neustadt\nHalle: Wittlich\, BBS-Halle (285)\nAdresse: Max-Planck-Straße\, 54516 Wittlich\n
LOCATION:Wittlich\, BBS-Halle (285): Max-Planck-Straße\, 54516 Wittlich
CATEGORIES:Saison 2024/25
END:VEVENT
BEGIN:VEVENT
DTSTAMP:20260425T152201Z
DTSTART;TZID=Europe/Berlin:20241109T173000
DTEND;TZID=Europe/Berlin:20241109T190000
SUMMARY:OL Frauen HSG Hunsrück II vs SF Neustadt (43)
UID:42c38687-f5de-46b9-b1be-689f2ea1d717
STATUS:CONFIRMED
LAST-MODIFIED:20241111T055905Z
DESCRIPTION:Oberliga Rheinland Frauen\nBegegnungs-Nr: 43\nHeim: HSG Hunsrück II\nGast: SF Neustadt\nHalle: Sohren\, Schulsporthalle  (222)\nAdresse: Schulzentrum\, 55487  Sohren\n
LOCATION:Sohren\, Schulsporthalle  (222): Schulzentrum\, 55487  Sohren
CATEGORIES:Saison 2024/25
END:VEVENT
BEGIN:VEVENT
DTSTAMP:20260425T152201Z
DTSTART;TZID=Europe/Berlin:20241208T170000
DTEND;TZID=Europe/Berlin:20241208T183000
SUMMARY:OL Frauen HSC Schweich vs SF Neustadt (65)
UID:913f58bb-d9c1-4446-bf16-80c162efefe1
STATUS:CONFIRMED
LAST-MODIFIED:20241209T065630Z
DESCRIPTION:Oberliga Rheinland Frauen\nBegegnungs-Nr: 65\nHeim: HSC Schweich\nGast: SF Neustadt\nHalle: Schweich\, Stefan-Andres-Halle (225)\nAdresse: Stefan-Andres-Straße\, 54338  Schweich\n
LOCATION:Schweich\, Stefan-Andres-Halle (225): Stefan-Andres-Straße\, 54338  Schweich
CATEGORIES:Saison 2024/25
END:VEVENT
BEGIN:VEVENT
DTSTAMP:20260425T152201Z
DTSTART;TZID=Europe/Berlin:20241214T151500
DTEND;TZID=Europe/Berlin:20241214T164500
SUMMARY:OL Frauen TuS 05 Daun vs SF Neustadt (68)
UID:41a65d93-74c6-481a-91e0-db161b66d710
STATUS:CONFIRMED
LAST-MODIFIED:20241215T100657Z
DESCRIPTION:Oberliga Rheinland Frauen\nBegegnungs-Nr: 68\nHeim: TuS 05 Daun\nGast: SF Neustadt\nHalle: Daun\, Wehrbüschhalle (079)\nAdresse: Schulstraße\, 54550 Daun\n
LOCATION:Daun\, Wehrbüschhalle (079): Schulstraße\, 54550 Daun
CATEGORIES:Saison 2024/25
END:VEVENT
BEGIN:VEVENT
DTSTAMP:20260425T152201Z
DTSTART;TZID=Europe/Berlin:20250126T173000
DTEND;TZID=Europe/Berlin:20250126T190000
SUMMARY:OL Frauen TV Engers vs SF Neustadt (81)
UID:28a1ec32-e302-4a6b-93e8-8fd902e51c09
STATUS:CONFIRMED
LAST-MODIFIED:20250131T153208Z
DESCRIPTION:Oberliga Rheinland Frauen\nBegegnungs-Nr: 81\nHeim: TV Engers\nGast: SF Neustadt\nHalle: Engers\, Sporthalle  (183)\nAdresse: Weißer Straße\, 56566 Neuwied-Engers\n
LOCATION:Engers\, Sporthalle  (183): Weißer Straße\, 56566 Neuwied-Engers
CATEGORIES:Saison 2024/25
END:VEVENT
BEGIN:VEVENT
DTSTAMP:20260425T152201Z
DTSTART;TZID=Europe/Berlin:20250209T170000
DTEND;TZID=Europe/Berlin:20250209T183000
SUMMARY:OL Frauen TV Welling vs SF Neustadt (94)
UID:2708cf5f-a94b-4b84-881d-c6928c1e4ad4
STATUS:CONFIRMED
LAST-MODIFIED:20250210T091123Z
DESCRIPTION:Oberliga Rheinland Frauen\nBegegnungs-Nr: 94\nHeim: TV Welling\nGast: SF Neustadt\nHalle: Welling\, Nettetalhalle  (270)\nAdresse: Schulstraße\, 56753 Welling\n
LOCATION:Welling\, Nettetalhalle  (270): Schulstraße\, 56753 Welling
CATEGORIES:Saison 2024/25
END:VEVENT
BEGIN:VEVENT
DTSTAMP:20260425T152201Z
DTSTART;TZID=Europe/Berlin:20250222T180000
DTEND;TZID=Europe/Berlin:20250222T193000
SUMMARY:OL Frauen DJK/MJC Trier vs SF Neustadt (107)
UID:70704e7e-8f36-4aef-bafd-b9346987a257
STATUS:CONFIRMED
LAST-MODIFIED:20250223T080002Z
DESCRIPTION:Oberliga Rheinland Frauen\nBegegnungs-Nr: 107\nHeim: DJK/MJC Trier\nGast: SF Neustadt\nHalle: Trier\, Halle Trier-West (249)\nAdresse: Eurener Straße\, 54294 Trier\n
LOCATION:Trier\, Halle Trier-West (249): Eurener Straße\, 54294 Trier
CATEGORIES:Saison 2024/25
END:VEVENT
BEGIN:VEVENT
DTSTAMP:20260425T152201Z
DTSTART;TZID=Europe/Berlin:20250316T170000
DTEND;TZID=Europe/Berlin:20250316T183000
SUMMARY:OL Frauen HSG Kastellaun-Simmern vs SF Neustadt (120)
UID:52f3d4fc-4bfc-457f-9726-820975610e87
STATUS:CONFIRMED
LAST-MODIFIED:20250316T175805Z
DESCRIPTION:Oberliga Rheinland Frauen\nBegegnungs-Nr: 120\nHeim: HSG Kastellaun-Simmern\nGast: SF Neustadt\nHalle: Kastellaun\, Integrierte Gesamtschule (110)\nAdresse: Theodor-Heuss-Allee\, 56288 Kastellaun\n
LOCATION:Kastellaun\, Integrierte Gesamtschule (110): Theodor-Heuss-Allee\, 56288 Kastellaun
CATEGORIES:Saison 2024/25
END:VEVENT
BEGIN:VEVENT
DTSTAMP:20260425T152201Z
DTSTART;TZID=Europe/Berlin:20250329T171500
DTEND;TZID=Europe/Berlin:20250329T184500
SUMMARY:OL Frauen TV Bad Ems vs SF Neustadt (121)
UID:541247e6-6c00-4d9a-b28d-de0d63723028
STATUS:CONFIRMED
LAST-MODIFIED:20250331T055123Z
DESCRIPTION:Oberliga Rheinland Frauen\nBegegnungs-Nr: 121\nHeim: TV Bad Ems\nGast: SF Neustadt\nHalle: Bad Ems\, Silberau  (023)\nAdresse: Insel Silberau\, 56130 Bad Ems\n
LOCATION:Bad Ems\, Silberau  (023): Insel Silberau\, 56130 Bad Ems
CATEGORIES:Saison 2024/25
END:VEVENT
END:VCALENDAR
